BEGIN:VCALENDAR
VERSION:2.0
PRODID:-//Tukios.com/
BEGIN:VEVENT
UID:ad8edbae-5eae-468c-a587-281f43e24a00@www.sheldonfuneralhomes.com
DTSTAMP:20260421T164639Z
DTSTART:20260502T150000Z
DTEND:20260502T160000Z
SUMMARY:Visitation
DESCRIPTION:
URL:https://www.sheldonfuneralhomes.com/obituaries/dorothy-ayers
LOCATION:Sheldon Funeral Home 459 Main St  Laceyville PA 18623
GEO:41.6457022;-76.1619157
END:VEVENT
END:VCALENDAR